{
 "currentVersion": 10.91,
 "serviceDescription": "Imagery/Airphoto_Regina_1951_20cm",
 "name": "Imagery/Airphoto_Regina_1951_20cm",
 "description": "",
 "extent": {
  "xmin": 520959.98500000004,
  "ymin": 5583723.260071464,
  "xmax": 533959.9850007583,
  "ymax": 5593723.159939712,
  "spatialReference": {
   "wkid": 26913,
   "latestWkid": 26913
  }
 },
 "initialExtent": {
  "xmin": 520959.98500000004,
  "ymin": 5583723.260071464,
  "xmax": 533959.9850007583,
  "ymax": 5593723.159939712,
  "spatialReference": {
   "wkid": 26913,
   "latestWkid": 26913
  }
 },
 "fullExtent": {
  "xmin": 520959.98500000004,
  "ymin": 5583723.260071464,
  "xmax": 533959.9850007583,
  "ymax": 5593723.159939712,
  "spatialReference": {
   "wkid": 26913,
   "latestWkid": 26913
  }
 },
 "hasMultidimensions": false,
 "pixelSizeX": 0.2000000000116657,
 "pixelSizeY": 0.19998999776505,
 "datasetFormat": "FGDBR",
 "uncompressedSize": 3250130000,
 "blockWidth": 128,
 "blockHeight": 128,
 "compressionType": "JPEG",
 "bandNames": [
  "Band_1"
 ],
 "allowCopy": true,
 "allowAnalysis": true,
 "bandCount": 1,
 "pixelType": "U8",
 "minPixelSize": 0,
 "maxPixelSize": 0,
 "copyrightText": "",
 "serviceDataType": "esriImageServiceDataTypeGeneric",
 "serviceSourceType": "esriImageServiceSourceTypeDataset",
 "minValues": [
  0
 ],
 "maxValues": [
  255
 ],
 "meanValues": [
  153.96780107440068
 ],
 "stdvValues": [
  55.44958215252751
 ],
 "objectIdField": "",
 "fields": [],
 "capabilities": "Image,Metadata,Mensuration",
 "defaultMosaicMethod": "Center",
 "allowedMosaicMethods": "",
 "sortField": "",
 "sortValue": null,
 "sortAscending": true,
 "mosaicOperator": "First",
 "defaultCompressionQuality": 75,
 "defaultResamplingMethod": "Bilinear",
 "maxImageHeight": 4100,
 "maxImageWidth": 15000,
 "allowRasterFunction": true,
 "rasterFunctionInfos": [
  {
   "name": "None",
   "description": "",
   "help": ""
  }
 ],
 "rasterTypeInfos": [
  {
   "name": "Raster Dataset",
   "description": "Supports all ArcGIS Raster Datasets",
   "help": ""
  }
 ],
 "mensurationCapabilities": "Basic",
 "hasHistograms": true,
 "hasColormap": false,
 "hasRasterAttributeTable": false,
 "minScale": 0,
 "maxScale": 0,
 "exportTilesAllowed": false,
 "supportsStatistics": false,
 "supportsAdvancedQueries": false,
 "editFieldsInfo": null,
 "ownershipBasedAccessControlForRasters": null,
 "allowComputeTiePoints": false,
 "useStandardizedQueries": true,
 "advancedQueryCapabilities": {
  "useStandardizedQueries": true,
  "supportsStatistics": false,
  "supportsOrderBy": false,
  "supportsDistinct": false,
  "supportsPagination": false
 },
 "spatialReference": {
  "wkid": 26913,
  "latestWkid": 26913
 }
}
