View In:
ArcGIS JavaScript
ArcGIS Online Map Viewer
ArcGIS Earth
ArcMap
View Footprint In:
ArcGIS Online Map Viewer
Service Description: Imagery/Airphoto_Regina_2004_10cm
Name: Imagery/Airphoto_Regina_2004_10cm
Description:
Single Fused Map Cache: false
Extent:
XMin: 516960.02900000004
YMin: 5582223.179
XMax: 537960.0290000001
YMax: 5597723.179
Spatial Reference: 26913
(26913)
Initial Extent:
XMin: 516960.02900000004
YMin: 5582223.179
XMax: 537960.0290000001
YMax: 5597723.179
Spatial Reference: 26913
(26913)
Full Extent:
XMin: 516960.02900000004
YMin: 5582223.179
XMax: 537960.0290000001
YMax: 5597723.179
Spatial Reference: 26913
(26913)
Pixel Size X: 0.10000000000000028
Pixel Size Y: 0.1
Band Count: 3
Pixel Type: U8
RasterFunction Infos: {"rasterFunctionInfos": [{
"name": "None",
"description": "",
"help": ""
}]}
Mensuration Capabilities:
Has Histograms: true
Has Colormap: false
Has Multi Dimensions : false
Rendering Rule:
Min Scale: 0
Max Scale: 0
Copyright Text:
Service Data Type: esriImageServiceDataTypeRGB
Min Values: 0, 0, 0
Max Values: 219, 201, 180
Mean Values: 82.284236075626, 75.516862544711, 66.020183955033
Standard Deviation Values: 74.489094940399, 68.447170671893, 59.939345950859
Object ID Field:
Fields:
None
Default Mosaic Method: Center
Allowed Mosaic Methods:
SortField:
SortValue: null
Mosaic Operator: First
Default Compression Quality: 75
Default Resampling Method: Bilinear
Max Record Count: null
Max Image Height: 4100
Max Image Width: 15000
Max Download Image Count: null
Max Mosaic Image Count: null
Allow Raster Function: true
Allow Copy: true
Allow Analysis: true
Allow Compute TiePoints: false
Supports Statistics: false
Supports Advanced Queries: false
Use StandardizedQueries: true
Raster Type Infos:
Name: Raster Dataset
Description: Supports all ArcGIS Raster Datasets
Help:
Has Raster Attribute Table: false
Edit Fields Info: null
Ownership Based AccessControl For Rasters: null
Child Resources:
Info
Histograms
Statistics
Key Properties
Legend
Raster Function Infos
Supported Operations:
Export Image
Identify
Compute Histograms
Compute Statistics Histograms
Get Samples
Compute Class Statistics
Query Boundary
Compute Pixel Location
Compute Angles
Validate
Project