View In:
ArcGIS JavaScript
ArcGIS Online Map Viewer
ArcGIS Earth
ArcMap
View Footprint In:
ArcGIS Online Map Viewer
Service Description: Imagery/Airphoto_Regina_2009_10cm
Name: Imagery/Airphoto_Regina_2009_10cm
Description:
Single Fused Map Cache: false
Extent:
XMin: 514960.02900000004
YMin: 5582223.179
XMax: 537960.0290000001
YMax: 5597723.179
Spatial Reference: 26913
(26913)
Initial Extent:
XMin: 514960.02900000004
YMin: 5582223.179
XMax: 537960.0290000001
YMax: 5597723.179
Spatial Reference: 26913
(26913)
Full Extent:
XMin: 514960.02900000004
YMin: 5582223.179
XMax: 537960.0290000001
YMax: 5597723.179
Spatial Reference: 26913
(26913)
Pixel Size X: 0.10000000000000026
Pixel Size Y: 0.1
Band Count: 3
Pixel Type: U8
RasterFunction Infos: {"rasterFunctionInfos": [{
"name": "None",
"description": "",
"help": ""
}]}
Mensuration Capabilities: Basic
Has Histograms: true
Has Colormap: false
Has Multi Dimensions : false
Rendering Rule:
Min Scale: 0
Max Scale: 0
Copyright Text:
Service Data Type: esriImageServiceDataTypeRGB
Min Values: 0, 2, 0
Max Values: 255, 255, 255
Mean Values: 170.77119236143, 170.33313926409, 162.03504890545
Standard Deviation Values: 63.879408863007, 64.039612334086, 70.393640391903
Object ID Field:
Fields:
None
Default Mosaic Method: Center
Allowed Mosaic Methods:
SortField:
SortValue: null
Mosaic Operator: First
Default Compression Quality: 75
Default Resampling Method: Bilinear
Max Record Count: null
Max Image Height: 4100
Max Image Width: 15000
Max Download Image Count: null
Max Mosaic Image Count: null
Allow Raster Function: true
Allow Copy: true
Allow Analysis: true
Allow Compute TiePoints: false
Supports Statistics: false
Supports Advanced Queries: false
Use StandardizedQueries: true
Raster Type Infos:
Name: Raster Dataset
Description: Supports all ArcGIS Raster Datasets
Help:
Has Raster Attribute Table: false
Edit Fields Info: null
Ownership Based AccessControl For Rasters: null
Child Resources:
Info
Histograms
Statistics
Key Properties
Legend
Raster Function Infos
Supported Operations:
Export Image
Identify
Measure
Compute Histograms
Compute Statistics Histograms
Get Samples
Compute Class Statistics
Query Boundary
Compute Pixel Location
Compute Angles
Validate
Project