View In:
ArcGIS JavaScript
ArcGIS Online Map Viewer
ArcGIS Earth
ArcMap
View Footprint In:
ArcGIS Online Map Viewer
Service Description: Imagery/Airphoto_Regina_2012_10cm
Name: Imagery/Airphoto_Regina_2012_10cm
Description:
Single Fused Map Cache: false
Extent:
XMin: 514959.9
YMin: 5582222.899999999
XMax: 537960.1
YMax: 5597723.1
Spatial Reference: 26913
(26913)
Initial Extent:
XMin: 514959.9
YMin: 5582222.899999999
XMax: 537960.1
YMax: 5597723.1
Spatial Reference: 26913
(26913)
Full Extent:
XMin: 514959.9
YMin: 5582222.899999999
XMax: 537960.1
YMax: 5597723.1
Spatial Reference: 26913
(26913)
Pixel Size X: 0.0999999999999998
Pixel Size Y: 0.1000000000000012
Band Count: 3
Pixel Type: U8
RasterFunction Infos: {"rasterFunctionInfos": [{
"name": "None",
"description": "",
"help": ""
}]}
Mensuration Capabilities: Basic
Has Histograms: true
Has Colormap: false
Has Multi Dimensions : false
Rendering Rule:
Min Scale: 0
Max Scale: 0
Copyright Text:
Service Data Type: esriImageServiceDataTypeRGB
Min Values: 8, 18, 0
Max Values: 255, 255, 255
Mean Values: 175.28691197019, 177.61527713088, 169.18723800652
Standard Deviation Values: 64.282265959747, 61.481300124339, 68.046477617328
Object ID Field:
Fields:
None
Default Mosaic Method: Center
Allowed Mosaic Methods:
SortField:
SortValue: null
Mosaic Operator: First
Default Compression Quality: 75
Default Resampling Method: Bilinear
Max Record Count: null
Max Image Height: 4100
Max Image Width: 15000
Max Download Image Count: null
Max Mosaic Image Count: null
Allow Raster Function: true
Allow Copy: true
Allow Analysis: true
Allow Compute TiePoints: false
Supports Statistics: false
Supports Advanced Queries: false
Use StandardizedQueries: true
Raster Type Infos:
Name: Raster Dataset
Description: Supports all ArcGIS Raster Datasets
Help:
Has Raster Attribute Table: false
Edit Fields Info: null
Ownership Based AccessControl For Rasters: null
Child Resources:
Info
Histograms
Statistics
Key Properties
Legend
Raster Function Infos
Supported Operations:
Export Image
Identify
Measure
Compute Histograms
Compute Statistics Histograms
Get Samples
Compute Class Statistics
Query Boundary
Compute Pixel Location
Compute Angles
Validate
Project