View In:
ArcGIS JavaScript
ArcGIS Online Map Viewer
ArcGIS Earth
ArcMap
View Footprint In:
ArcGIS Online Map Viewer
Service Description: Imagery/Airphoto_Regina_2014_7_5cm
Name: Imagery/Airphoto_Regina_2014_7_5cm
Description:
Single Fused Map Cache: false
Extent:
XMin: 514960.02934
YMin: 5582223.15375
XMax: 537959.97934
YMax: 5597723.17875
Spatial Reference: 26913
(26913)
Initial Extent:
XMin: 514960.02934
YMin: 5582223.15375
XMax: 537959.97934
YMax: 5597723.17875
Spatial Reference: 26913
(26913)
Full Extent:
XMin: 514960.02934
YMin: 5582223.15375
XMax: 537959.97934
YMax: 5597723.17875
Spatial Reference: 26913
(26913)
Pixel Size X: 0.07499999999999984
Pixel Size Y: 0.0750000000000018
Band Count: 4
Pixel Type: U8
RasterFunction Infos: {"rasterFunctionInfos": [{
"name": "None",
"description": "",
"help": ""
}]}
Mensuration Capabilities:
Has Histograms: true
Has Colormap: false
Has Multi Dimensions : false
Rendering Rule:
Min Scale: 0
Max Scale: 0
Copyright Text:
Service Data Type: esriImageServiceDataTypeGeneric
Min Values: 0, 0, 0, 0
Max Values: 255, 249, 245, 255
Mean Values: 122.89830065359, 116.77202614379, 97.565490196078, 184.77777777778
Standard Deviation Values: 79.180385501036, 73.819322278428, 62.859506890041, 112.29255803988
Object ID Field:
Fields:
None
Default Mosaic Method: Center
Allowed Mosaic Methods:
SortField:
SortValue: null
Mosaic Operator: First
Default Compression Quality: 75
Default Resampling Method: Bilinear
Max Record Count: null
Max Image Height: 4100
Max Image Width: 15000
Max Download Image Count: null
Max Mosaic Image Count: null
Allow Raster Function: true
Allow Copy: true
Allow Analysis: true
Allow Compute TiePoints: false
Supports Statistics: false
Supports Advanced Queries: false
Use StandardizedQueries: true
Raster Type Infos:
Name: Raster Dataset
Description: Supports all ArcGIS Raster Datasets
Help:
Has Raster Attribute Table: false
Edit Fields Info: null
Ownership Based AccessControl For Rasters: null
Child Resources:
Info
Histograms
Statistics
Key Properties
Legend
Raster Function Infos
Supported Operations:
Export Image
Identify
Compute Histograms
Compute Statistics Histograms
Get Samples
Compute Class Statistics
Query Boundary
Compute Pixel Location
Compute Angles
Validate
Project