View In:
ArcGIS JavaScript
ArcGIS Online Map Viewer
ArcGIS Earth
ArcMap
View Footprint In:
ArcGIS Online Map Viewer
Service Description: Imagery/Airphoto_Regina_2016_7_5cm
Name: Imagery/Airphoto_Regina_2016_7_5cm
Description:
Single Fused Map Cache: false
Extent:
XMin: 514959.9543416306
YMin: 5582223.078753669
XMax: 537960.0543416307
YMax: 5597723.253753663
Spatial Reference: 26913
(26913)
Initial Extent:
XMin: 514959.9543416306
YMin: 5582223.078753669
XMax: 537960.0543416307
YMax: 5597723.253753663
Spatial Reference: 26913
(26913)
Full Extent:
XMin: 514959.9543416306
YMin: 5582223.078753669
XMax: 537960.0543416307
YMax: 5597723.253753663
Spatial Reference: 26913
(26913)
Pixel Size X: 0.07500000000000011
Pixel Size Y: 0.07499999999997206
Band Count: 4
Pixel Type: U8
RasterFunction Infos: {"rasterFunctionInfos": [{
"name": "None",
"description": "",
"help": ""
}]}
Mensuration Capabilities: Basic
Has Histograms: true
Has Colormap: false
Has Multi Dimensions : false
Rendering Rule:
Min Scale: 0
Max Scale: 0
Copyright Text:
Service Data Type: esriImageServiceDataTypeGeneric
Min Values: 0, 0, 0, 0
Max Values: 236, 221, 213, 255
Mean Values: 109.91529411765, 92.757647058824, 63.788758169935, 184.78039215686
Standard Deviation Values: 69.945832553342, 58.474789470455, 41.657041450149, 112.29287981596
Object ID Field:
Fields:
None
Default Mosaic Method: Center
Allowed Mosaic Methods:
SortField:
SortValue: null
Mosaic Operator: First
Default Compression Quality: 75
Default Resampling Method: Bilinear
Max Record Count: null
Max Image Height: 4100
Max Image Width: 15000
Max Download Image Count: null
Max Mosaic Image Count: null
Allow Raster Function: true
Allow Copy: true
Allow Analysis: true
Allow Compute TiePoints: false
Supports Statistics: false
Supports Advanced Queries: false
Use StandardizedQueries: true
Raster Type Infos:
Name: Raster Dataset
Description: Supports all ArcGIS Raster Datasets
Help:
Has Raster Attribute Table: false
Edit Fields Info: null
Ownership Based AccessControl For Rasters: null
Child Resources:
Info
Histograms
Statistics
Key Properties
Legend
Raster Function Infos
Supported Operations:
Export Image
Identify
Measure
Compute Histograms
Compute Statistics Histograms
Get Samples
Compute Class Statistics
Query Boundary
Compute Pixel Location
Compute Angles
Validate
Project