View In:
ArcGIS JavaScript
ArcGIS Online Map Viewer
ArcGIS Earth
ArcMap
View Footprint In:
ArcGIS Online Map Viewer
Service Description: This is the 2020 ortho image for the City of Regina at 7.5cm maximum resolution.
Name: Imagery/Airphoto_Regina_2020_7_5cm
Description:
Single Fused Map Cache: false
Extent:
XMin: 514960.02934
YMin: 5582223.15375
XMax: 539960.07934
YMax: 5597723.17875
Spatial Reference: 26913
(26913)
Initial Extent:
XMin: 514960.02934
YMin: 5582223.15375
XMax: 539960.07934
YMax: 5597723.17875
Spatial Reference: 26913
(26913)
Full Extent:
XMin: 514960.02934
YMin: 5582223.15375
XMax: 539960.07934
YMax: 5597723.17875
Spatial Reference: 26913
(26913)
Pixel Size X: 0.07500000000000014
Pixel Size Y: 0.0750000000000018
Band Count: 4
Pixel Type: U8
RasterFunction Infos: {"rasterFunctionInfos": [{
"name": "None",
"description": "",
"help": ""
}]}
Mensuration Capabilities: Basic
Has Histograms: true
Has Colormap: false
Has Multi Dimensions : false
Rendering Rule:
Min Scale: 0
Max Scale: 0
Copyright Text:
Service Data Type: esriImageServiceDataTypeGeneric
Min Values: 0, 0, 0, 0
Max Values: 241, 229, 222, 255
Mean Values: 97.605212816834, 81.627211860354, 60.459349593496, 168.62553802009
Standard Deviation Values: 72.287511144197, 59.816741144198, 44.408635135129, 118.61627847399
Object ID Field:
Fields:
None
Default Mosaic Method: Center
Allowed Mosaic Methods:
SortField:
SortValue: null
Mosaic Operator: First
Default Compression Quality: 75
Default Resampling Method: Bilinear
Max Record Count: null
Max Image Height: 4100
Max Image Width: 15000
Max Download Image Count: null
Max Mosaic Image Count: null
Allow Raster Function: true
Allow Copy: true
Allow Analysis: true
Allow Compute TiePoints: false
Supports Statistics: false
Supports Advanced Queries: false
Use StandardizedQueries: true
Raster Type Infos:
Name: Raster Dataset
Description: Supports all ArcGIS Raster Datasets
Help:
Has Raster Attribute Table: false
Edit Fields Info: null
Ownership Based AccessControl For Rasters: null
Child Resources:
Info
Histograms
Statistics
Key Properties
Legend
Raster Function Infos
Supported Operations:
Export Image
Identify
Measure
Compute Histograms
Compute Statistics Histograms
Get Samples
Compute Class Statistics
Query Boundary
Compute Pixel Location
Compute Angles
Validate
Project