View In:
ArcGIS JavaScript
ArcGIS Online Map Viewer
ArcGIS Earth
ArcMap
View Footprint In:
ArcGIS Online Map Viewer
Service Description: 2023 orthoimagery at 7.5cm maximum resolution of the City of Regina
Name: Imagery/Airphoto_Regina_2023_7_5cm
Description: 2023 orthoimagery at 7.5cm maximum resolution of the City of Regina
Single Fused Map Cache: false
Extent:
XMin: 514962
YMin: 5582682
XMax: 539262
YMax: 5597532
Spatial Reference: 26913
(26913)
Initial Extent:
XMin: 514962
YMin: 5582682
XMax: 539262
YMax: 5597532
Spatial Reference: 26913
(26913)
Full Extent:
XMin: 514962
YMin: 5582682
XMax: 539262
YMax: 5597532
Spatial Reference: 26913
(26913)
Pixel Size X: 0.075
Pixel Size Y: 0.075
Band Count: 3
Pixel Type: U8
RasterFunction Infos: {"rasterFunctionInfos": [{
"name": "None",
"description": "",
"help": ""
}]}
Mensuration Capabilities: Basic
Has Histograms: true
Has Colormap: false
Has Multi Dimensions : false
Rendering Rule:
Min Scale: 0
Max Scale: 0
Copyright Text:
Service Data Type: esriImageServiceDataTypeProcessed
Min Values: 36, 35, 2
Max Values: 255, 255, 255
Mean Values: 177.72015306122, 164.3012755102, 140.50663265306
Standard Deviation Values: 52.014700649432, 58.877993865606, 72.913318377538
Object ID Field:
Fields:
None
Default Mosaic Method: Center
Allowed Mosaic Methods:
SortField:
SortValue: null
Mosaic Operator: First
Default Compression Quality: 75
Default Resampling Method: Bilinear
Max Record Count: null
Max Image Height: 4100
Max Image Width: 15000
Max Download Image Count: null
Max Mosaic Image Count: null
Allow Raster Function: true
Allow Copy: null
Allow Analysis: null
Allow Compute TiePoints: false
Supports Statistics: false
Supports Advanced Queries: false
Use StandardizedQueries: true
Raster Type Infos:
Name: Raster Dataset
Description: Supports all ArcGIS Raster Datasets
Help:
Has Raster Attribute Table: false
Edit Fields Info: null
Ownership Based AccessControl For Rasters: null
Child Resources:
Info
Histograms
Key Properties
Legend
Raster Function Infos
Supported Operations:
Export Image
Identify
Measure
Compute Histograms
Compute Statistics Histograms
Get Samples
Compute Class Statistics
Query Boundary
Compute Pixel Location
Compute Angles
Validate
Project