View In:
ArcGIS JavaScript
ArcGIS Online Map Viewer
ArcGIS Earth
ArcMap
View Footprint In:
ArcGIS Online Map Viewer
Service Description: Imagery/Airphoto_Regina_1951_20cm
Name: Imagery/Airphoto_Regina_1951_20cm
Description:
Single Fused Map Cache: false
Extent:
XMin: 520959.98500000004
YMin: 5583723.260071464
XMax: 533959.9850007583
YMax: 5593723.159939712
Spatial Reference: 26913
(26913)
Initial Extent:
XMin: 520959.98500000004
YMin: 5583723.260071464
XMax: 533959.9850007583
YMax: 5593723.159939712
Spatial Reference: 26913
(26913)
Full Extent:
XMin: 520959.98500000004
YMin: 5583723.260071464
XMax: 533959.9850007583
YMax: 5593723.159939712
Spatial Reference: 26913
(26913)
Pixel Size X: 0.2000000000116657
Pixel Size Y: 0.19998999776505
Band Count: 1
Pixel Type: U8
RasterFunction Infos: {"rasterFunctionInfos": [{
"name": "None",
"description": "",
"help": ""
}]}
Mensuration Capabilities: Basic
Has Histograms: true
Has Colormap: false
Has Multi Dimensions : false
Rendering Rule:
Min Scale: 0
Max Scale: 0
Copyright Text:
Service Data Type: esriImageServiceDataTypeGeneric
Min Values: 0
Max Values: 255
Mean Values: 153.96780107440068
Standard Deviation Values: 55.44958215252751
Object ID Field:
Fields:
None
Default Mosaic Method: Center
Allowed Mosaic Methods:
SortField:
SortValue: null
Mosaic Operator: First
Default Compression Quality: 75
Default Resampling Method: Bilinear
Max Record Count: null
Max Image Height: 4100
Max Image Width: 15000
Max Download Image Count: null
Max Mosaic Image Count: null
Allow Raster Function: true
Allow Copy: true
Allow Analysis: true
Allow Compute TiePoints: false
Supports Statistics: false
Supports Advanced Queries: false
Use StandardizedQueries: true
Raster Type Infos:
Name: Raster Dataset
Description: Supports all ArcGIS Raster Datasets
Help:
Has Raster Attribute Table: false
Edit Fields Info: null
Ownership Based AccessControl For Rasters: null
Child Resources:
Info
Histograms
Statistics
Key Properties
Legend
Raster Function Infos
Supported Operations:
Export Image
Identify
Measure
Compute Histograms
Compute Statistics Histograms
Get Samples
Compute Class Statistics
Query Boundary
Compute Pixel Location
Compute Angles
Validate
Project